BEGIN:VCALENDAR
VERSION:2.0
PRODID:-//Main Plaza - ECPv6.15.13//NONSGML v1.0//EN
CALSCALE:GREGORIAN
METHOD:PUBLISH
X-ORIGINAL-URL:https://www.mainplaza.org
X-WR-CALDESC:Events for Main Plaza
REFRESH-INTERVAL;VALUE=DURATION:PT1H
X-Robots-Tag:noindex
X-PUBLISHED-TTL:PT1H
BEGIN:VTIMEZONE
TZID:America/Chicago
BEGIN:DAYLIGHT
TZOFFSETFROM:-0600
TZOFFSETTO:-0500
TZNAME:CDT
DTSTART:20250309T080000
END:DAYLIGHT
BEGIN:STANDARD
TZOFFSETFROM:-0500
TZOFFSETTO:-0600
TZNAME:CST
DTSTART:20251102T070000
END:STANDARD
BEGIN:DAYLIGHT
TZOFFSETFROM:-0600
TZOFFSETTO:-0500
TZNAME:CDT
DTSTART:20260308T080000
END:DAYLIGHT
BEGIN:STANDARD
TZOFFSETFROM:-0500
TZOFFSETTO:-0600
TZNAME:CST
DTSTART:20261101T070000
END:STANDARD
BEGIN:DAYLIGHT
TZOFFSETFROM:-0600
TZOFFSETTO:-0500
TZNAME:CDT
DTSTART:20270314T080000
END:DAYLIGHT
BEGIN:STANDARD
TZOFFSETFROM:-0500
TZOFFSETTO:-0600
TZNAME:CST
DTSTART:20271107T070000
END:STANDARD
END:VTIMEZONE
BEGIN:VEVENT
DTSTART;TZID=America/Chicago:20260604T193000
DTEND;TZID=America/Chicago:20260604T203000
DTSTAMP:20260421T122156
CREATED:20260416T112607Z
LAST-MODIFIED:20260416T112607Z
UID:9842-1780601400-1780605000@www.mainplaza.org
SUMMARY:Free Yoga with MobileOm
DESCRIPTION:Grab your mat\, and a buddy. Then\, come to the Heart of the City to flow with a free yoga class taught by a MobileOM instructor. This class is open to the public\, and all-levels. No experience is required\, but a positive\, friendly attitude is encouraged. Make it a date and stay for the Saga\, or grab a after class snack or drink at one of the nearby restaurants.
URL:https://www.mainplaza.org/event/free-yoga-with-mobileom/
LOCATION:Main Plaza\, 115 N Main Ave\,\, San Antonio\, tx\, 78205\, United States
ATTACH;FMTTYPE=image/jpeg:https://www.mainplaza.org/wp-content/uploads/2025/02/450846788_18444714904022652_1159373431615127827_n.jpg
END:VEVENT
END:VCALENDAR